BEGIN:VCALENDAR
VERSION:2.0
PRODID:-//wp-events-plugin.com//7.2.3.1//EN
TZID:Europe/Berlin
X-WR-TIMEZONE:Europe/Berlin
BEGIN:VEVENT
UID:98@die-whisky-taster.de
DTSTART;TZID=Europe/Berlin:20261211T190000
DTEND;TZID=Europe/Berlin:20261211T220000
DTSTAMP:20251014T173323Z
URL:https://www.die-whisky-taster.de/events/dezember-weihnachtstasting-202
 6/
SUMMARY:Dezember - Weihnachtsedition 2026
DESCRIPTION:Auch das Jahr 2026 beenden wir mit einem legendären Weihnachts
 -Tasting.\nFreut Euch auf sieben exquisite Destillate\, die im Laufe des J
 ahres als\nwürdig erachtet worden sind\, für das Line-Up dieses Verkostu
 ngs-Highlights\nnominiert zu werden. Selbstverständlich gehört zum Weihn
 achts-Tasting\nauch ein großartiges 3-Gänge-Menü.\n\n  .em-event-conten
 t {color: #ffffff\;}\n  .em-event-when {color: #FFBE01\;}\n  .em-event-loc
 ation {color: #ffffff\;}\n  .em-event-bookings-meta {color: #FFBE01\;}\n  
 .em-item-meta-line a:link {color: #FFBE01\;}\n  .em-ticket-select {color: 
 #000000\; background: #FFBE01\;}\n  .ticket-price {color: #FFBE01\;}\n  .e
 m-login-trigger {color: #ffffff\;}\n  .em-booking-form-details {color: #ff
 ffff\;}\n  .em-bs-cell-desc {color: #ffffff\;}\n  .em-bs-cell-price {color
 : #ffffff\;}\n  .em-bs-cell-qty {color: #ffffff\;}\n  textarea[name="booki
 ng_comment"] {color: #000000\;}\n  .em {--text-color-softer: #ffffff\; --m
 ain-bg: #383838\; --main-h3-color: #FFBE01\; --meta-color: #FFBE01\; --tex
 t-color-normal: #FFFFFF\;}\n  h3.em-booking-section-title {#FFBE01\;}\n  .
 em-icon {--meta-dashicons: #ffffff\;}\n
CATEGORIES:Whisky-Tastings
LOCATION:Salle Nollet im Mercure Hotel Hannover City\, Willy-Brandt-Allee 3
 \, Hannover\, Niedersachsen\, 30169\, Region Hannover\, Deutschland
GEO:52.366896;9.74025
X-APPLE-STRUCTURED-LOCATION;VALUE=URI;X-ADDRESS=Willy-Brandt-Allee 3\, Hann
 over\, Niedersachsen\, 30169\, Region Hannover\, Deutschland;X-APPLE-RADIU
 S=100;X-TITLE=Salle Nollet im Mercure Hotel Hannover City:geo:52.366896,9.
 74025
END:VEVENT
BEGIN:VTIMEZONE
TZID:Europe/Berlin
X-LIC-LOCATION:Europe/Berlin
BEGIN:STANDARD
DTSTART:20261025T020000
TZOFFSETFROM:+0200
TZOFFSETTO:+0100
TZNAME:CET
END:STANDARD
END:VTIMEZONE
END:VCALENDAR