BEGIN:VCALENDAR
VERSION:2.0
PRODID:-//wp-events-plugin.com//7.2.3.1//EN
TZID:Europe/Berlin
X-WR-TIMEZONE:Europe/Berlin
BEGIN:VEVENT
UID:105@die-whisky-taster.de
DTSTART;TZID=Europe/Berlin:20270108T190000
DTEND;TZID=Europe/Berlin:20270108T220000
DTSTAMP:20260416T140934Z
URL:https://www.die-whisky-taster.de/events/januar-murray-mcdavid-tasting/
SUMMARY:Januar - Murray McDavid-Tasting
DESCRIPTION:Das Tastingjahr 2027 starten wir mit einer Veranstaltung\, bei 
 der wir Euch einen der führenden schottischen unabhängigen Abfüller vor
 stellen wollen. Auch wenn Murray McDavid erst im Jahr 1994 gegründet wurd
 e\, hat man sich doch schnell einen Namen durch die hervorragende Fassausw
 ahl gemacht. Bei Murray McDavid bekommt man Whiskys mit einem überzeugend
 en Preis-Leistungs-Verhältnis. Ein leckeres 2-Gänge-Menü rundet den Abe
 nd kulinarisch ab. \n\n  .em-event-content {color: #ffffff\;}\n  .em-event
 -when {color: #FFBE01\;}\n  .em-event-location {color: #ffffff\;}\n  .em-e
 vent-bookings-meta {color: #FFBE01\;}\n  .em-item-meta-line a:link {color:
  #FFBE01\;}\n  .em-ticket-select {color: #000000\; background: #FFBE01\;}\
 n  .ticket-price {color: #FFBE01\;}\n  .em-login-trigger {color: #ffffff\;
 }\n  .em-booking-form-details {color: #ffffff\;}\n  .em-bs-cell-desc {colo
 r: #ffffff\;}\n  .em-bs-cell-price {color: #ffffff\;}\n  .em-bs-cell-qty {
 color: #ffffff\;}\n  textarea[name="booking_comment"] {color: #000000\;}\n
   .em {--text-color-softer: #ffffff\; --main-bg: #383838\; --main-h3-color
 : #FFBE01\; --meta-color: #FFBE01\; --text-color-normal: #FFFFFF\;}\n  h3.
 em-booking-section-title {#FFBE01\;}\n  .em-icon {--meta-dashicons: #fffff
 f\;}\n
CATEGORIES:Whisky-Tastings
LOCATION:Mohnkuchen Café\, Brabeckstr. 12\, Hannover\, 30559\, Deutschland
X-APPLE-STRUCTURED-LOCATION;VALUE=URI;X-ADDRESS=Brabeckstr. 12\, Hannover\,
  30559\, Deutschland;X-APPLE-RADIUS=100;X-TITLE=Mohnkuchen Café:geo:0,0
END:VEVENT
BEGIN:VTIMEZONE
TZID:Europe/Berlin
X-LIC-LOCATION:Europe/Berlin
BEGIN:STANDARD
DTSTART:20261025T020000
TZOFFSETFROM:+0200
TZOFFSETTO:+0100
TZNAME:CET
END:STANDARD
END:VTIMEZONE
END:VCALENDAR